BEGIN:VCALENDAR
VERSION:2.0
PRODID:-//Tukios.com/
BEGIN:VEVENT
UID:6b7dacea-ea6c-46a1-921a-90ea429be1cd@www.howardharrisfs.com
DTSTAMP:20260420T233326Z
DTSTART:20260501T160000Z
DTEND:20260501T170000Z
SUMMARY:Funeral Service
DESCRIPTION:
URL:https://www.howardharrisfs.com/obituaries/ruby-wilson
LOCATION: 1428 SW Jefferson Ave  Lawton OK 73501
GEO:34.5919914;-98.4098665
END:VEVENT
END:VCALENDAR