BEGIN:VCALENDAR
VERSION:2.0
PRODID:-//Tukios.com/
BEGIN:VEVENT
UID:238f1009-6950-4e9d-90dd-4f0745c26fe7@www.howardharrisfs.com
DTSTAMP:20260420T233201Z
DTSTART:20260430T210000Z
DTEND:20260430T230000Z
SUMMARY:Visitation
DESCRIPTION:
URL:https://www.howardharrisfs.com/obituaries/ruby-wilson
LOCATION: 1005 SW C Ave  Lawton OK 73501
GEO:34.6056132;-98.4038819
END:VEVENT
END:VCALENDAR