BEGIN:VCALENDAR
VERSION:2.0
PRODID:-//Tukios.com/
BEGIN:VEVENT
UID:bcee8be7-c197-4861-8dbf-07df5b07a1d0@www.howardharrisfs.com
DTSTAMP:20260421T233358Z
DTSTART:20260430T160000Z
DTEND:20260430T170000Z
SUMMARY:Funeral Service
DESCRIPTION:
URL:https://www.howardharrisfs.com/obituaries/gladys-salazar
LOCATION: 1005 SW C Ave  Lawton OK 73501
GEO:34.6056132;-98.4038819
END:VEVENT
END:VCALENDAR