BEGIN:VCALENDAR
VERSION:2.0
PRODID:-//Tukios.com/
BEGIN:VEVENT
UID:a93cf3c3-a35b-4081-be4c-58c2c9841616@www.howardharrisfs.com
DTSTAMP:20260421T233840Z
DTSTART:20260429T210000Z
DTEND:20260429T230000Z
SUMMARY:Visitation
DESCRIPTION:
URL:https://www.howardharrisfs.com/obituaries/gladys-salazar
LOCATION: 1005 SW C Ave  Lawton OK 73501
GEO:34.6056132;-98.4038819
END:VEVENT
END:VCALENDAR