BEGIN:VCALENDAR
VERSION:2.0
PRODID:-//Tukios.com/
BEGIN:VEVENT
UID:9272f386-aacb-42bf-905d-2ae873b2a20e@www.howardharrisfs.com
DTSTAMP:20260420T214850Z
DTSTART:20260424T160000Z
DTEND:20260424T170000Z
SUMMARY:Funeral Service
DESCRIPTION:
URL:https://www.howardharrisfs.com/obituaries/eric-edwardssr
LOCATION: 9700 N Western Ave  Oklahoma City OK 73114
GEO:35.5688276;-97.5311362
END:VEVENT
END:VCALENDAR