BEGIN:VCALENDAR
VERSION:2.0
PRODID:-//Tukios.com/
BEGIN:VEVENT
UID:41d3acfb-c43e-4204-9249-ce77888f2d53@www.howardharrisfs.com
DTSTAMP:20260420T215153Z
DTSTART:20260425T160000Z
DTEND:20260425T170000Z
SUMMARY:Funeral Service
DESCRIPTION:
URL:https://www.howardharrisfs.com/obituaries/dean-coleman
LOCATION: 2425 SE 4th St  Oklahoma City OK 73160
GEO:35.3349401;-97.4430645
END:VEVENT
END:VCALENDAR