BEGIN:VCALENDAR
VERSION:2.0
PRODID:-//Tukios.com/
BEGIN:VEVENT
UID:5bc1f28a-d116-496f-81a8-1e3c46fee030@www.howardharrisfs.com
DTSTAMP:20260420T215047Z
DTSTART:20260425T150000Z
DTEND:20260425T160000Z
SUMMARY:Visitation
DESCRIPTION:
URL:https://www.howardharrisfs.com/obituaries/dean-coleman
LOCATION: 2425 SE 4th St  Oklahoma City OK 73160
GEO:35.3349401;-97.4430645
END:VEVENT
END:VCALENDAR